BEGIN:VCALENDAR
VERSION:2.0
PRODID:-//Library Market//iCal Export//EN
BEGIN:VEVENT
SUMMARY:Quilled Cards
UID:5441
DTSTAMP:20260423T033300Z
DTSTART:20250113T190000Z
DTEND:20250113T210000Z
LOCATION:Byron Public Library District, 100 S Washington St., Byron, IL 61
 010, United States
ROOM: Creative Studio
DESCRIPTION:Paper quilling is a popular craft where strips of paper are ro
 lled, shaped and glued together to create decorative designs. In this prog
 ram you will learn the basics of quilling to make two different cards.
URL:https://www.byronlibrary.org/event/quilled-cards-5441
END:VEVENT
END:VCALENDAR
