BEGIN:VCALENDAR
VERSION:2.0
PRODID:-//Library Market//iCal Export//EN
BEGIN:VEVENT
SUMMARY:Quilled Cards
UID:5442
DTSTAMP:20260423T033100Z
DTSTART:20250114T233000Z
DTEND:20250115T013000Z
LOCATION:Byron Public Library District, 100 S Washington St., Byron, IL 61
 010, United States
ROOM: Creative Studio
DESCRIPTION:Paper quilling is a popular craft where strips of paper are ro
 lled, shaped and glued together to create decorative designs. In this prog
 ram you will learn the basics of quilling to make two different cards.
URL:https://www.byronlibrary.org/event/quilled-cards-5442
END:VEVENT
END:VCALENDAR
