BEGIN:VCALENDAR
VERSION:2.0
PRODID:-//Library Market//iCal Export//EN
BEGIN:VEVENT
SUMMARY:Teen Cupcake Wars
UID:5444
DTSTAMP:20260423T082800Z
DTSTART:20241105T200000Z
DTEND:20241105T213000Z
LOCATION:Byron Public Library District, 100 S Washington St., Byron, IL 61
 010, United States
ROOM: Teen Department &amp; Creative Studio
DESCRIPTION:On your day off school, come to the library to decorate pre-ma
 de cupcakes in two categories and then staff will choose the winner! Gift 
 card prizes for the winners. 
URL:https://www.byronlibrary.org/event/teen-cupcake-wars-5444
END:VEVENT
END:VCALENDAR
