BEGIN:VCALENDAR
VERSION:2.0
PRODID:-//Library Market//iCal Export//EN
BEGIN:VEVENT
SUMMARY:Teen Dungeons &amp; Dragons
UID:5450
DTSTAMP:20260423T082900Z
DTSTART:20241106T213000Z
DTEND:20241106T230000Z
LOCATION:Byron Public Library District, 100 S Washington St., Byron, IL 61
 010, United States
ROOM: Classroom 2
DESCRIPTION:Join our weekly after-school D&amp;D group, which is open to n
 ew and experienced players! The two Dungeon Masters alternate weeks, so it
  would be best to pick one D&amp;D campaign and come every other week, so 
 you stay with one DM and epic journey! Adam: 11/6, 11/20 &amp; 12/11Jacob
 :  11/13 &amp; 12/4 
URL:https://www.byronlibrary.org/event/teen-dungeons-dragons-5450
END:VEVENT
END:VCALENDAR
