BEGIN:VCALENDAR
VERSION:2.0
PRODID:-//Library Market//iCal Export//EN
BEGIN:VEVENT
SUMMARY:Winter Crafts for Teens
UID:5453
DTSTAMP:20260423T082800Z
DTSTART:20241122T000000Z
DTEND:20241122T010000Z
LOCATION:Byron Public Library District, 100 S Washington St., Byron, IL 61
 010, United States
ROOM: Teen Department &amp; Creative Studio
DESCRIPTION:Go station to station creating several different winter-themed
  crafts! 
URL:https://www.byronlibrary.org/event/winter-crafts-teens-5453
END:VEVENT
END:VCALENDAR
