BEGIN:VCALENDAR
VERSION:2.0
PRODID:-//Library Market//iCal Export//EN
BEGIN:VEVENT
SUMMARY:Valentine Banner Kit
UID:5474
DTSTAMP:20260423T033700Z
DTSTART:20250124T150000Z
DTEND:20250124T230000Z
LOCATION:Byron Public Library District, 100 S Washington St., Byron, IL 61
 010, United States
ROOM: Valentine Banner Kit
DESCRIPTION:Make this festive &quot;XOXO&quot; Valentine Banner with suppl
 ies included in this kit! No Registration Required! First come, first serv
 ed. No holds. While Supplies Last! 
URL:https://www.byronlibrary.org/event/valentine-banner-kit-5474
END:VEVENT
END:VCALENDAR
