BEGIN:VCALENDAR
VERSION:2.0
PRODID:-//Library Market//iCal Export//EN
BEGIN:VEVENT
SUMMARY:Movie Night in a Box Kit Pick-Up
UID:5489
DTSTAMP:20260423T065300Z
DTSTART:20241213T150000Z
DTEND:20241213T230000Z
LOCATION:Byron Public Library District, 100 S Washington St., Byron, IL 61
 010, United States
ROOM: Movie Night in a Box Kit Pick-Up
DESCRIPTION:Sign-up for &quot;Movie Night in a Box&quot; and receive 2 the
 med DVD&#039;s handpicked just for you, and some special treats to complet
 e your movie night! (DVD&#039;s and box need to be returned.) Must have a
  valid library card. Limit one per household. Replacement fee of $5 will b
 e assessed if box is not returned.
URL:https://www.byronlibrary.org/event/movie-night-box-kit-5489
END:VEVENT
END:VCALENDAR
