BEGIN:VCALENDAR
VERSION:2.0
PRODID:-//Library Market//iCal Export//EN
BEGIN:VEVENT
SUMMARY:Adult Dungeons &amp; Dragons
UID:5490
DTSTAMP:20260423T082800Z
DTSTART:20241103T190000Z
DTEND:20241103T220000Z
LOCATION:Byron Public Library District, 100 S Washington St., Byron, IL 61
 010, United States
ROOM: Classroom 1
DESCRIPTION:Adults: Join a new Dungeons &amp; Dragons group, run by an exp
 erienced DM! Will meet monthly.
URL:https://www.byronlibrary.org/event/adult-dungeons-dragons-5490
END:VEVENT
END:VCALENDAR
