BEGIN:VCALENDAR
VERSION:2.0
PRODID:-//Library Market//iCal Export//EN
BEGIN:VEVENT
SUMMARY:Squishmallows Party
UID:5520
DTSTAMP:20260423T082800Z
DTSTART:20241120T000000Z
DTEND:20241120T004500Z
LOCATION:Byron Public Library District, 100 S Washington St., Byron, IL 61
 010, United States
ROOM: Activity Room &amp; Meeting Room
DESCRIPTION:Celebrate everything squishmallows! Receive a squishmallow and
  earn your adoption certificate after taking your squishmallow through art
  &amp; activity stations in the youth department. This event is for childr
 en ages 3 years-5th grade, accompanied by a caregiver. 
URL:https://www.byronlibrary.org/event/squishmallows-party-5520
END:VEVENT
END:VCALENDAR
