BEGIN:VCALENDAR
VERSION:2.0
PRODID:-//Library Market//iCal Export//EN
BEGIN:VEVENT
SUMMARY:Lego Day
UID:5521
DTSTAMP:20260423T082800Z
DTSTART:20241114T214500Z
DTEND:20241114T224500Z
LOCATION:Byron Public Library District, 100 S Washington St., Byron, IL 61
 010, United States
ROOM: Activity Room
DESCRIPTION:Create with LEGO and display your finished piece in the librar
 y.
URL:https://www.byronlibrary.org/event/lego-day-5521
END:VEVENT
END:VCALENDAR
