BEGIN:VCALENDAR
VERSION:2.0
PRODID:-//Library Market//iCal Export//EN
BEGIN:VEVENT
SUMMARY:Magical Christmas Lanterns Kit
UID:5535
DTSTAMP:20260423T082800Z
DTSTART:20241122T150000Z
DTEND:20241122T230000Z
LOCATION:Byron Public Library District, 100 S Washington St., Byron, IL 61
 010, United States
ROOM: Magical Christmas Lanterns Kit
DESCRIPTION:Create a glowing Christmas lantern in a jar. For youth in 1st-
 5th grade. Pick up begins Friday, Nov. 22nd.
URL:https://www.byronlibrary.org/event/magical-christmas-lanterns-5535
END:VEVENT
END:VCALENDAR
