BEGIN:VCALENDAR
VERSION:2.0
PRODID:-//Library Market//iCal Export//EN
BEGIN:VEVENT
SUMMARY:Ornament Making
UID:5541
DTSTAMP:20260423T065300Z
DTSTART:20241211T000000Z
DTEND:20241211T004500Z
LOCATION:Byron Public Library District, 100 S Washington St., Byron, IL 61
 010, United States
ROOM: Meeting Room
DESCRIPTION:Make a variety of Christmas ornaments to take home! Projects b
 est for ages 3 years-5th grade but younger siblings are welcome. Parents o
 f children 1st grade and younger should accompany children to each ornamen
 t making station.To ensure enough supplies, please register each child tha
 t will be making an ornament. Parents do not need to register. 
URL:https://www.byronlibrary.org/event/ornament-making-5541
END:VEVENT
END:VCALENDAR
