BEGIN:VCALENDAR
VERSION:2.0
PRODID:-//Library Market//iCal Export//EN
BEGIN:VEVENT
SUMMARY:Flurry of Fun
UID:5550
DTSTAMP:20260423T033200Z
DTSTART:20250129T000000Z
DTEND:20250129T004500Z
LOCATION:Byron Public Library District, 100 S Washington St., Byron, IL 61
 010, United States
ROOM: Activity Room &amp; Meeting Room
DESCRIPTION:Join us for some indoor winter themed activities! For youth ag
 es 3 years-5th grade, accompanied by an adult.
URL:https://www.byronlibrary.org/event/flurry-fun-5550
END:VEVENT
END:VCALENDAR
