BEGIN:VCALENDAR
VERSION:2.0
PRODID:-//Library Market//iCal Export//EN
BEGIN:VEVENT
SUMMARY:Heart Art Kit
UID:5553
DTSTAMP:20260423T033100Z
DTSTART:20250117T150000Z
DTEND:20250117T230000Z
LOCATION:Byron Public Library District, 100 S Washington St., Byron, IL 61
 010, United States
ROOM: Heart Art Kit
DESCRIPTION:Create a heart themed art project. For youth in K-5th grade.
URL:https://www.byronlibrary.org/event/youth-take-home-kit-valentine-theme
 -5553
END:VEVENT
END:VCALENDAR
