BEGIN:VCALENDAR
VERSION:2.0
PRODID:-//Library Market//iCal Export//EN
BEGIN:VEVENT
SUMMARY:Chocolate Taste Test-Wednesday
UID:5554
DTSTAMP:20260423T032400Z
DTSTART:20250205T214500Z
DTEND:20250205T224500Z
LOCATION:Byron Public Library District, 100 S Washington St., Byron, IL 61
 010, United States
ROOM: Activity Room
DESCRIPTION:Try samples of different types of chocolate, as well as chocol
 ate covered items.
URL:https://www.byronlibrary.org/event/chocolate-taste-test-5554
END:VEVENT
END:VCALENDAR
