BEGIN:VCALENDAR
VERSION:2.0
PRODID:-//Library Market//iCal Export//EN
BEGIN:VEVENT
SUMMARY:Fluffy Pet Rock Kit
UID:5556
DTSTAMP:20260423T033300Z
DTSTART:20250215T150000Z
DTEND:20250215T230000Z
LOCATION:Byron Public Library District, 100 S Washington St., Byron, IL 61
 010, United States
ROOM: Fluffy Pet Rock Kit
DESCRIPTION:Create a pet rock and decorate a home for it!
URL:https://www.byronlibrary.org/event/youth-take-home-kits-5556
END:VEVENT
END:VCALENDAR
