BEGIN:VCALENDAR
VERSION:2.0
PRODID:-//Library Market//iCal Export//EN
BEGIN:VEVENT
SUMMARY:Owl-tastic Craft Kit
UID:5557
DTSTAMP:20260423T033400Z
DTSTART:20250321T140000Z
DTEND:20250321T220000Z
LOCATION:Byron Public Library District, 100 S Washington St., Byron, IL 61
 010, United States
ROOM: Owl-tastic Craft Kit
DESCRIPTION:Create a pair of colorful owls! This kit is for 1st-5th grader
 s.
URL:https://www.byronlibrary.org/event/youth-take-home-kits-march-5557
END:VEVENT
END:VCALENDAR
