BEGIN:VCALENDAR
VERSION:2.0
PRODID:-//Library Market//iCal Export//EN
BEGIN:VEVENT
SUMMARY:Race Car Play
UID:5558
DTSTAMP:20260423T033300Z
DTSTART:20250429T230000Z
DTEND:20250429T234500Z
LOCATION:Byron Public Library District, 100 S Washington St., Byron, IL 61
 010, United States
ROOM: Activity Room &amp; Meeting Room
DESCRIPTION:Create tracks &amp; play with all types of cars: Lego, Hot Whe
 els, Magna-Tiles and more! Art and a program themed search &amp; find too.
  Activities best for 3 years-5th grade, but older or younger siblings are 
 welcome.
URL:https://www.byronlibrary.org/event/matchbox-madness-5558
END:VEVENT
END:VCALENDAR
