BEGIN:VCALENDAR
VERSION:2.0
PRODID:-//Library Market//iCal Export//EN
BEGIN:VEVENT
SUMMARY:All Day D&amp;D Extravaganza for Teens
UID:6018
DTSTAMP:20260423T050500Z
DTSTART:20250104T160000Z
DTEND:20250104T220000Z
LOCATION:Byron Public Library District, 100 S Washington St., Byron, IL 61
 010, United States
ROOM: Meeting Room
DESCRIPTION:Play an epic all-day (10 am- 4 pm) Dungeons &amp; Dragons game
 ! Multiple DM&#039;s will guide you through the one-shot The Hidden Shrine
  of Tamoachan D&amp;D game. A free pizza lunch will be served!New and expe
 rienced players are welcome. Pre-made character sheets will be available a
 t the game. This adventure is for 5th-level characters. If you would like 
 to make your own character and bring it, you may do so -- please say so in
  the space below. Otherwise, you will be provided with a character made f
 or you. If you have an idea for what kind of character you&#039;d like to 
 play, we can make it for you. In the space below, provide as much detail a
 s you can about the type of character you&#039;d like (for example, you co
 uld say &quot;I&#039;d like to play an elf wizard named Wendrell who can 
 create fire&quot; or &quot;I want to play a character like Conan the Barba
 rian, except they&#039;re a gnome.&quot;), and we will do our best to acco
 mmodate you. If you have no preference, say so. 
URL:https://www.byronlibrary.org/event/all-day-dd-extravaganza-teens-6018
END:VEVENT
END:VCALENDAR
