BEGIN:VCALENDAR
VERSION:2.0
PRODID:-//Library Market//iCal Export//EN
BEGIN:VEVENT
SUMMARY:Teen Time
UID:6174
DTSTAMP:20260423T065300Z
DTSTART:20241202T210000Z
DTEND:20241202T230000Z
LOCATION:Byron Public Library District, 100 S Washington St., Byron, IL 61
 010, United States
ROOM: Teen Department &amp; Creative Studio
DESCRIPTION:Join our after-school Teen Time in our teen department! Come h
 ang out with friends, make crafts and play video games in a space that was
  created just for YOU! Come anytime between 3-5 pm- no registration requir
 ed. The last Teen Time for 2024 will be on Thursday, December 12th. Then 
 it will be on hiatus for a few weeks and resume on Tuesday, January 7th, 2
 025.  
URL:https://www.byronlibrary.org/event/teen-time-6174
END:VEVENT
END:VCALENDAR
