BEGIN:VCALENDAR
VERSION:2.0
PRODID:-//Library Market//iCal Export//EN
BEGIN:VEVENT
SUMMARY:Gingerbread Contest for Teens
UID:6184
DTSTAMP:20260423T065300Z
DTSTART:20241206T000000Z
DTEND:20241206T013000Z
LOCATION:Byron Public Library District, 100 S Washington St., Byron, IL 61
 010, United States
ROOM: Meeting Room
DESCRIPTION:Create an amazing gingerbread house on December 5th! They will
  then be displayed at the library for one week allowing patrons to vote on
  their favorite. Who will earn bragging rights this year (and an Amazon gi
 ft card)?
URL:https://www.byronlibrary.org/event/gingerbread-contest-teens-6184
END:VEVENT
END:VCALENDAR
