BEGIN:VCALENDAR
VERSION:2.0
PRODID:-//Library Market//iCal Export//EN
BEGIN:VEVENT
SUMMARY:Volunteens- Cards for Hospitalized Kids
UID:6185
DTSTAMP:20260423T065300Z
DTSTART:20241210T000000Z
DTEND:20241210T010000Z
LOCATION:Byron Public Library District, 100 S Washington St., Byron, IL 61
 010, United States
ROOM: Meeting Room
DESCRIPTION:Earn an hour of volunteer credit by designing holiday cards fo
 r the organization Cards for Hospitalized Kids. Let&#039;s bring some chee
 r to some sick kids!
URL:https://www.byronlibrary.org/event/volunteens-cards-hospitalized-kids-
 6185
END:VEVENT
END:VCALENDAR
