BEGIN:VCALENDAR
VERSION:2.0
PRODID:-//Library Market//iCal Export//EN
BEGIN:VEVENT
SUMMARY:Interactive Movie for Teens
UID:6186
DTSTAMP:20260423T065300Z
DTSTART:20241223T190000Z
DTEND:20241223T210000Z
LOCATION:Byron Public Library District, 100 S Washington St., Byron, IL 61
 010, United States
ROOM: Teen Department
DESCRIPTION:We will watch the festive movie Elf (PG) together and you will
  get a bag full of goodies for an interactive experience during the movie!
URL:https://www.byronlibrary.org/event/interactive-movie-teens-6186
END:VEVENT
END:VCALENDAR
