BEGIN:VCALENDAR
VERSION:2.0
PRODID:-//Library Market//iCal Export//EN
BEGIN:VEVENT
SUMMARY:Plushie Sewing Class for Teens
UID:6187
DTSTAMP:20260423T050500Z
DTSTART:20241230T160000Z
DTEND:20241230T180000Z
LOCATION:Byron Public Library District, 100 S Washington St., Byron, IL 61
 010, United States
ROOM: Classroom 2
DESCRIPTION:Design your own plushie! While all plushies will have the same
  body type, you can pick the material and extras you want to create your o
 wn masterpiece. You must have taken our previous beginner&#039;s sewing c
 lass to be able to take this class.  
URL:https://www.byronlibrary.org/event/teen-sewing-class-6187
END:VEVENT
END:VCALENDAR
