BEGIN:VCALENDAR
VERSION:2.0
PRODID:-//Library Market//iCal Export//EN
BEGIN:VEVENT
SUMMARY:Sewing - Holiday Coasters
UID:6214
DTSTAMP:20260423T065300Z
DTSTART:20241213T160000Z
DTEND:20241213T180000Z
LOCATION:Byron Public Library District, 100 S Washington St., Byron, IL 61
 010, United States
ROOM: Creative Studio
DESCRIPTION:Our December sewing project is quick and easy. Come and create
  some festive holiday coasters. All materials will be supplied. Regardless
  of sewing experience, enrollment in this class requires successful comple
 tion of the Beginner Sewing Class at Byron Public Library. 
URL:https://www.byronlibrary.org/event/sewing-holiday-coasters-6214
END:VEVENT
END:VCALENDAR
