BEGIN:VCALENDAR
VERSION:2.0
PRODID:-//Library Market//iCal Export//EN
BEGIN:VEVENT
SUMMARY:Friday Trivia
UID:6215
DTSTAMP:20260423T065300Z
DTSTART:20241206T160000Z
DTEND:20241206T173000Z
LOCATION:Byron Public Library District, 100 S Washington St., Byron, IL 61
 010, United States
ROOM: Meeting Room
DESCRIPTION:
URL:https://www.byronlibrary.org/event/friday-trivia-6215
END:VEVENT
END:VCALENDAR
