BEGIN:VCALENDAR
VERSION:2.0
PRODID:-//Library Market//iCal Export//EN
BEGIN:VEVENT
SUMMARY:Wednesday Night Readers
UID:6217
DTSTAMP:20260423T065300Z
DTSTART:20241219T003000Z
DTEND:20241219T013000Z
LOCATION:Byron Public Library District, 100 S Washington St., Byron, IL 61
 010, United States
ROOM: Classroom 1
DESCRIPTION:Charles Dickens should be looking forward to Christmas. But wh
 en his latest book, &#039;Martin Chuzzlewit&#039;, is a flop, his publishe
 rs give him an ultimatum. Either he writes a Christmas book in a month or 
 they will call in his debts and he could lose everything. Dickens has no c
 hoice but to grudgingly accept.Copies of the book will be available for ch
 eck-out at the library. 
URL:https://www.byronlibrary.org/event/wednesday-night-readers-6217
END:VEVENT
END:VCALENDAR
