BEGIN:VCALENDAR
VERSION:2.0
PRODID:-//Library Market//iCal Export//EN
BEGIN:VEVENT
SUMMARY:Fancy Fold Cards
UID:6286
DTSTAMP:20260423T033600Z
DTSTART:20250203T190000Z
DTEND:20250203T210000Z
LOCATION:Byron Public Library District, 100 S Washington St., Byron, IL 61
 010, United States
ROOM: Creative Studio
DESCRIPTION:Why send a traditional card when you can send a Fancy Fold car
 d? We will be making a Double Accordion Gatefold card, a Side Shutter card
 , and a Wing Back card. Your recipients are sure to be impressed when they
  receive one of these unique cards. 
URL:https://www.byronlibrary.org/event/fancy-fold-cards-6286
END:VEVENT
END:VCALENDAR
