BEGIN:VCALENDAR
VERSION:2.0
PRODID:-//Library Market//iCal Export//EN
BEGIN:VEVENT
SUMMARY:&quot;Little Red Fort&quot; StoryWalk®-Jarrett Prairie Center
UID:644
DTSTAMP:20260423T115200Z
DTSTART:20240420T050000Z
DTEND:20240530T050000Z
LOCATION:Byron Forest Preserve Jarrett Prairie Center, 7993 North River Ro
 ad, Byron, IL 61010, United States
ROOM: Byron Forest Preserve: Indigo Trail StoryWalk
DESCRIPTION:Current book: &quot;The Little Red Fort&quot; by Brenda Maier.
   In this adaptation of the Little Red Hen fable, Ruby wants to build a f
 ort, but her three brothers refuse to help, so when the fort is finished R
 uby will not let them join her--until the boys come up with a few embellis
 hments for the fort, like a mailbox, a garden, and a fresh coat of paint.
URL:https://www.byronlibrary.org/event/little-red-fort-storywalkr-jarrett-
 prairie-center-644
END:VEVENT
END:VCALENDAR
