BEGIN:VCALENDAR
VERSION:2.0
PRODID:-//Library Market//iCal Export//EN
BEGIN:VEVENT
SUMMARY:Sewing - Fleece Ear Warmer
UID:6613
DTSTAMP:20260423T033200Z
DTSTART:20250129T233000Z
DTEND:20250130T010000Z
LOCATION:Byron Public Library District, 100 S Washington St., Byron, IL 61
 010, United States
ROOM: Creative Studio
DESCRIPTION:Join us at the library for a cozy and creative sewing workshop
 ! In this hands-on program, participants will learn how to make a stylish 
 and functional fleece ear warmer - perfect for staying warm during chilly 
 weather. All materials will be supplied. Regardless of sewing experience, 
 enrollment in this class requires successful completion of the Beginner Se
 wing Class at Byron Public Library. 
URL:https://www.byronlibrary.org/event/sewing-fleece-ear-warmer-6613
END:VEVENT
END:VCALENDAR
