BEGIN:VCALENDAR
VERSION:2.0
PRODID:-//Library Market//iCal Export//EN
BEGIN:VEVENT
SUMMARY:Beginner Cross-Stitch
UID:6616
DTSTAMP:20260423T033700Z
DTSTART:20250125T160000Z
DTEND:20250125T173000Z
LOCATION:Byron Public Library District, 100 S Washington St., Byron, IL 61
 010, United States
ROOM: Creative Studio
DESCRIPTION:Join us for a fun and relaxing beginner cross-stitch workshop!
  This program is perfect for those new to the craft or looking to refresh 
 their skills. Participants will learn the basics of cross-stitching. All m
 aterials will be provided, and no prior experience is necessary. Let&#039;
 s stitch up some fun! 
URL:https://www.byronlibrary.org/event/beginner-cross-stitch-6616
END:VEVENT
END:VCALENDAR
