BEGIN:VCALENDAR
VERSION:2.0
PRODID:-//Library Market//iCal Export//EN
BEGIN:VEVENT
SUMMARY:Friday Trivia
UID:6617
DTSTAMP:20260423T050500Z
DTSTART:20250103T160000Z
DTEND:20250103T173000Z
LOCATION:Byron Public Library District, 100 S Washington St., Byron, IL 61
 010, United States
ROOM: Meeting Room
DESCRIPTION:
URL:https://www.byronlibrary.org/event/friday-trivia-6617
END:VEVENT
END:VCALENDAR
