BEGIN:VCALENDAR
VERSION:2.0
PRODID:-//Library Market//iCal Export//EN
BEGIN:VEVENT
SUMMARY:Adult Dungeons &amp; Dragons
UID:6672
DTSTAMP:20260423T033700Z
DTSTART:20250105T190000Z
DTEND:20250105T220000Z
LOCATION:Byron Public Library District, 100 S Washington St., Byron, IL 61
 010, United States
ROOM: Classroom 1
DESCRIPTION:Adults: Join a new Dungeons &amp; Dragons group, run by an exp
 erienced DM! This is for the January &amp; February sessions.
URL:https://www.byronlibrary.org/event/adult-dungeons-dragons-6672
END:VEVENT
END:VCALENDAR
