BEGIN:VCALENDAR
VERSION:2.0
PRODID:-//Library Market//iCal Export//EN
BEGIN:VEVENT
SUMMARY:DIY Valentine Heart Topiary
UID:6680
DTSTAMP:20260423T033700Z
DTSTART:20250211T000000Z
DTEND:20250211T013000Z
LOCATION:Byron Public Library District, 100 S Washington St., Byron, IL 61
 010, United States
ROOM: Creative Studio &amp; Classroom 2
DESCRIPTION:Join Cathy as she walks you through how to make a heart topiar
 y. It is super adorable and easy to make. It&#039;s also perfect for Valen
 tine&#039;s Day, weddings, or any interior décor&#039;. All supplies will
  be provided. 
URL:https://www.byronlibrary.org/event/diy-valentine-heart-topiary-6680
END:VEVENT
END:VCALENDAR
