BEGIN:VCALENDAR
VERSION:2.0
PRODID:-//Library Market//iCal Export//EN
BEGIN:VEVENT
SUMMARY:Blind Date with a Book (Romance Edition)
UID:6681
DTSTAMP:20260423T033700Z
DTSTART:20250214T150000Z
DTEND:20250214T230000Z
LOCATION:Byron Public Library District, 100 S Washington St., Byron, IL 61
 010, United States
ROOM: Blind Date with a Book (Romance Edition)
DESCRIPTION:Celebrate Valentine&#039;s Day with a book but don&#039;t judg
 e a book by its cover. Register for a handpicked, surprise book wrapped up
  for you to enjoy with a special sweet treat. The book will be checked ou
 t to your valid library card for 2 weeks. 
URL:https://www.byronlibrary.org/event/blind-date-book-romance-edition-668
 1
END:VEVENT
END:VCALENDAR
