BEGIN:VCALENDAR
VERSION:2.0
PRODID:-//Library Market//iCal Export//EN
BEGIN:VEVENT
SUMMARY:Calling All Dog Lovers
UID:6693
DTSTAMP:20260423T033700Z
DTSTART:20250124T000000Z
DTEND:20250124T010000Z
LOCATION:Byron Public Library District, 100 S Washington St., Byron, IL 61
 010, United States
ROOM: Meeting Room
DESCRIPTION:Join Melodee Hoffman from BONAFIED (bring out natural abilitie
 s found in every dog) as she raises awareness about rescuing, adopting and
  fostering dogs. During this program, you will learn the steps regarding h
 ow and where to adopt a dog of any age and breed, as well as training tips
  and continuing care after adoption. Baskets with dog essentials will be r
 affled off during this program. The grand prize giveaway is a free one on 
 one training session for you and your pal with Melodee! Whether you are a 
 new dog owner, or you&#039;ve spent years with your furry friend, Melodee 
 will share her doggy wisdom to enhance the relationship between you and yo
 ur canine companion. 
URL:https://www.byronlibrary.org/event/bonified-6693
END:VEVENT
END:VCALENDAR
