BEGIN:VCALENDAR
VERSION:2.0
PRODID:-//Library Market//iCal Export//EN
BEGIN:VEVENT
SUMMARY:Baby &amp; Toddler Time-Winter Session: Wednesdays
UID:6710
DTSTAMP:20260423T033400Z
DTSTART:20250212T153000Z
DTEND:20250212T161500Z
LOCATION:Byron Public Library District, 100 S Washington St., Byron, IL 61
 010, United States
ROOM: Meeting Room
DESCRIPTION:
URL:https://www.byronlibrary.org/event/baby-toddler-time-winter-session-we
 dnesdays-6710
END:VEVENT
END:VCALENDAR
