BEGIN:VCALENDAR
VERSION:2.0
PRODID:-//Library Market//iCal Export//EN
BEGIN:VEVENT
SUMMARY:Baby &amp; Toddler Time-Winter Session: Thursdays
UID:6713
DTSTAMP:20260423T033200Z
DTSTART:20250109T153000Z
DTEND:20250109T161500Z
LOCATION:Byron Public Library District, 100 S Washington St., Byron, IL 61
 010, United States
ROOM: Meeting Room
DESCRIPTION:If the Byron School District has a snow day, Baby &amp; Toddle
 r Time is cancelled. (The library might be open; check our Facebook page f
 or information.)
URL:https://www.byronlibrary.org/event/baby-toddler-time-winter-session-th
 ursdays-6713
END:VEVENT
END:VCALENDAR
