BEGIN:VCALENDAR
VERSION:2.0
PRODID:-//Library Market//iCal Export//EN
BEGIN:VEVENT
SUMMARY:Dog Man Day-Thurs.
UID:6789
DTSTAMP:20260423T033100Z
DTSTART:20250116T214500Z
DTEND:20250116T224500Z
LOCATION:Byron Public Library District, 100 S Washington St., Byron, IL 61
 010, United States
ROOM: Activity Room
DESCRIPTION:In anticipation of the Dog Man movie, spend the afternoon cele
 brating everything Dog Man! For youth in K-5th grade.
URL:https://www.byronlibrary.org/event/dog-man-day-6789
END:VEVENT
END:VCALENDAR
