BEGIN:VCALENDAR
VERSION:2.0
PRODID:-//Library Market//iCal Export//EN
BEGIN:VEVENT
SUMMARY:Valentine Playdough Kit
UID:6790
DTSTAMP:20260423T032400Z
DTSTART:20250117T150000Z
DTEND:20250117T230000Z
LOCATION:Byron Public Library District, 100 S Washington St., Byron, IL 61
 010, United States
ROOM: Valentine Playdough Kit
DESCRIPTION:A Valentine-themed playdough kit for hours of fun. This kit is
  for preschoolers (ages 3-5 years). Children age 5 that attend kindergart
 en should register for the Heart Art Kit. This kit has small parts and is 
 not intended for toddlers.  
URL:https://www.byronlibrary.org/event/valentine-playdough-kit-6790
END:VEVENT
END:VCALENDAR
