BEGIN:VCALENDAR
VERSION:2.0
PRODID:-//Library Market//iCal Export//EN
BEGIN:VEVENT
SUMMARY:Summer Fun Wall Art
UID:680
DTSTAMP:20260423T115100Z
DTSTART:20240620T230000Z
DTEND:20240621T003000Z
LOCATION:Byron Public Library District, 100 S Washington St., Byron, IL 61
 010, United States
ROOM: Creative Studio
DESCRIPTION:Create a fun summertime clothes line scene perfect for your su
 mmer decor! All supplies will be provided.
URL:https://www.byronlibrary.org/event/summer-fun-wall-art-680
END:VEVENT
END:VCALENDAR
