BEGIN:VCALENDAR
VERSION:2.0
PRODID:-//Library Market//iCal Export//EN
BEGIN:VEVENT
SUMMARY:3D Printing Basics
UID:681
DTSTAMP:20260423T113300Z
DTSTART:20240617T223000Z
DTEND:20240617T233000Z
LOCATION:Byron Public Library District, 100 S Washington St., Byron, IL 61
 010, United States
ROOM: Creative Studio &amp; Classroom 2
DESCRIPTION:Have you ever wanted to learn how to submit a 3D printing job?
  Join us for this informational demonstration class as Cathy shows you the
  step-by-step process on how to submit your very own 3D print. 
URL:https://www.byronlibrary.org/event/3d-printing-basics-681
END:VEVENT
END:VCALENDAR
