BEGIN:VCALENDAR
VERSION:2.0
PRODID:-//Library Market//iCal Export//EN
BEGIN:VEVENT
SUMMARY:Preschool Storytime-Winter Session: Wednesdays
UID:6822
DTSTAMP:20260423T033200Z
DTSTART:20250219T153000Z
DTEND:20250219T163000Z
LOCATION:Byron Public Library District, 100 S Washington St., Byron, IL 61
 010, United States
ROOM: Activity Room
DESCRIPTION:
URL:https://www.byronlibrary.org/event/preschool-storytime-winter-session-
 wednesdays-6822
END:VEVENT
END:VCALENDAR
