BEGIN:VCALENDAR
VERSION:2.0
PRODID:-//Library Market//iCal Export//EN
BEGIN:VEVENT
SUMMARY:Preschool Storytime-Winter Session: Thursdays
UID:6825
DTSTAMP:20260423T033300Z
DTSTART:20250116T153000Z
DTEND:20250116T163000Z
LOCATION:Byron Public Library District, 100 S Washington St., Byron, IL 61
 010, United States
ROOM: Activity Room
DESCRIPTION:If the Byron School District has a snow day, preschool storyti
 me will be cancelled. (The library might be open; check our Facebook page 
 for information.)
URL:https://www.byronlibrary.org/event/preschool-storytime-winter-session-
 thursdays-6825
END:VEVENT
END:VCALENDAR
