BEGIN:VCALENDAR
VERSION:2.0
PRODID:-//Library Market//iCal Export//EN
BEGIN:VEVENT
SUMMARY:Preschool Storytime-Winter Session: Thursdays
UID:6829
DTSTAMP:20260423T050500Z
DTSTART:20250213T153000Z
DTEND:20250213T163000Z
LOCATION:Byron Public Library District, 100 S Washington St., Byron, IL 61
 010, United States
ROOM: Activity Room
DESCRIPTION:If the Byron School District has a snow day, preschool storyti
 me will be cancelled. (The library might be open; check our Facebook page 
 for information.)
URL:https://www.byronlibrary.org/event/preschool-storytime-winter-session-
 thursdays-6829
END:VEVENT
END:VCALENDAR
