BEGIN:VCALENDAR
VERSION:2.0
PRODID:-//Library Market//iCal Export//EN
BEGIN:VEVENT
SUMMARY:Volunteens- Dog Toys
UID:6834
DTSTAMP:20260423T032200Z
DTSTART:20250114T000000Z
DTEND:20250114T010000Z
LOCATION:Byron Public Library District, 100 S Washington St., Byron, IL 61
 010, United States
ROOM: Meeting Room
DESCRIPTION:Earn an hour of volunteer credit by creating braided dog toys 
 for a local animal shelter. The toys will be made of old t-shirts, so if y
 ou donate two old shirts you can earn an additional hour of volunteer cred
 it. 
URL:https://www.byronlibrary.org/event/volunteens-dog-toys-6834
END:VEVENT
END:VCALENDAR
