BEGIN:VCALENDAR
VERSION:2.0
PRODID:-//Library Market//iCal Export//EN
BEGIN:VEVENT
SUMMARY:Teen Movie Matinee
UID:6838
DTSTAMP:20260423T033000Z
DTSTART:20250120T190000Z
DTEND:20250120T210000Z
LOCATION:Byron Public Library District, 100 S Washington St., Byron, IL 61
 010, United States
ROOM: Teen Department
DESCRIPTION:On your day off school, watch the thrilling musical The Greate
 st Showman (PG) with your friends! This is a drop-in program- no registrat
 ion is necessary. There is no Teen Time on this day. 
URL:https://www.byronlibrary.org/event/teen-movie-matinee-6838
END:VEVENT
END:VCALENDAR
