BEGIN:VCALENDAR
VERSION:2.0
PRODID:-//Library Market//iCal Export//EN
BEGIN:VEVENT
SUMMARY:DIY Wreath Bar Set-Up
UID:6859
DTSTAMP:20260423T065300Z
DTSTART:20241205T060000Z
DTEND:20241205T060000Z
LOCATION:Byron Public Library District, 100 S Washington St., Byron, IL 61
 010, United States
ROOM: Classroom 2
DESCRIPTION:
URL:https://www.byronlibrary.org/event/diy-wreath-bar-set-6859
END:VEVENT
END:VCALENDAR
