BEGIN:VCALENDAR
VERSION:2.0
PRODID:-//Library Market//iCal Export//EN
BEGIN:VEVENT
SUMMARY:Winter Challenge
UID:6872
DTSTAMP:20260423T033200Z
DTSTART:20250101T060000Z
DTEND:20250228T060000Z
LOCATION:Byron Public Library District, 100 S Washington St., Byron, IL 61
 010, United States
ROOM: Winter Challenge
DESCRIPTION:Register for our winter challenge by using the Beanstack app o
 r online at byron.beanstack.org. For all ages! Read with us this winner an
 d earn some prizes!
URL:https://www.byronlibrary.org/event/winter-challenge-6872
END:VEVENT
END:VCALENDAR
