BEGIN:VCALENDAR
VERSION:2.0
PRODID:-//Library Market//iCal Export//EN
BEGIN:VEVENT
SUMMARY:Beginner Sewing Class
UID:6906
DTSTAMP:20260423T033100Z
DTSTART:20250208T160000Z
DTEND:20250208T180000Z
LOCATION:Byron Public Library District, 100 S Washington St., Byron, IL 61
 010, United States
ROOM: Creative Studio
DESCRIPTION:Learn how to thread a sewing machine, wind a bobbin and practi
 ce sewing. This class utilizes the sewing machines in the Creative Studio 
 at the Byron Public Library. Please do not bring your own sewing machine.Â
  
URL:https://www.byronlibrary.org/event/beginner-sewing-class-6906
END:VEVENT
END:VCALENDAR
